Package: partCNV Version: 1.4.0 Command: rm -rf partCNV.buildbin-libdir && mkdir partCNV.buildbin-libdir && /Users/biocbuild/BBS/utils/build-universal.sh partCNV_1.4.0.tar.gz /Library/Frameworks/R.framework/Resources/bin/R partCNV.buildbin-libdir StartedAt: 2025-02-04 13:44:24 -0500 (Tue, 04 Feb 2025) EndedAt: 2025-02-04 13:46:47 -0500 (Tue, 04 Feb 2025) EllapsedTime: 143.0 seconds RetCode: 0 Status: OK PackageFile: partCNV_1.4.0.tgz PackageFileSize: 4.677 MiB