Package: partCNV Version: 1.4.0 Command: /Library/Frameworks/R.framework/Resources/bin/R CMD build --keep-empty-dirs --no-resave-data partCNV StartedAt: 2025-02-10 21:11:23 -0500 (Mon, 10 Feb 2025) EndedAt: 2025-02-10 21:15:09 -0500 (Mon, 10 Feb 2025) EllapsedTime: 226.2 seconds RetCode: 0 Status: OK PackageFile: partCNV_1.4.0.tar.gz PackageFileSize: 4.659 MiB