Package: partCNV Version: 1.4.0 Command: /home/biocbuild/bbs-3.20-bioc/R/bin/R CMD build --keep-empty-dirs --no-resave-data --md5 partCNV StartedAt: 2025-02-03 18:40:11 -0500 (Mon, 03 Feb 2025) EndedAt: 2025-02-03 18:41:56 -0500 (Mon, 03 Feb 2025) EllapsedTime: 105.1 seconds RetCode: 0 Status: OK PackageFile: partCNV_1.4.0.tar.gz PackageFileSize: 4.634 MiB