Package: pathifier Version: 1.44.0 Command: /Library/Frameworks/R.framework/Resources/bin/R CMD build --keep-empty-dirs --no-resave-data pathifier StartedAt: 2025-02-11 05:15:48 -0500 (Tue, 11 Feb 2025) EndedAt: 2025-02-11 05:16:11 -0500 (Tue, 11 Feb 2025) EllapsedTime: 22.6 seconds RetCode: 0 Status: OK PackageFile: pathifier_1.44.0.tar.gz PackageFileSize: 2.033 MiB