Package: pathifier Version: 1.44.0 Command: /Library/Frameworks/R.framework/Resources/bin/R CMD build --keep-empty-dirs --no-resave-data pathifier StartedAt: 2025-02-03 21:10:03 -0500 (Mon, 03 Feb 2025) EndedAt: 2025-02-03 21:10:56 -0500 (Mon, 03 Feb 2025) EllapsedTime: 52.9 seconds RetCode: 0 Status: OK PackageFile: pathifier_1.44.0.tar.gz PackageFileSize: 2.033 MiB