Package: pathifier Version: 1.44.0 Command: /Library/Frameworks/R.framework/Resources/bin/R CMD check --install=check:pathifier.install-out.txt --library=/Library/Frameworks/R.framework/Resources/library --no-vignettes --timings pathifier_1.44.0.tar.gz StartedAt: 2025-02-04 07:47:23 -0500 (Tue, 04 Feb 2025) EndedAt: 2025-02-04 07:49:16 -0500 (Tue, 04 Feb 2025) EllapsedTime: 112.3 seconds RetCode: 0 Status: OK CheckDir: pathifier.Rcheck Warnings: 0