Package: pathifier Version: 1.44.0 Command: rm -rf pathifier.buildbin-libdir && mkdir pathifier.buildbin-libdir && F:\biocbuild\bbs-3.20-bioc\R\bin\R.exe CMD INSTALL --build --library=pathifier.buildbin-libdir pathifier_1.44.0.tar.gz StartedAt: 2025-02-04 09:08:50 -0500 (Tue, 04 Feb 2025) EndedAt: 2025-02-04 09:08:59 -0500 (Tue, 04 Feb 2025) EllapsedTime: 8.5 seconds RetCode: 0 Status: OK PackageFile: pathifier_1.44.0.zip PackageFileSize: 1.935 MiB