Package: pathifier Version: 1.44.0 Command: /home/biocbuild/R/R/bin/R CMD build --keep-empty-dirs --no-resave-data pathifier StartedAt: 2025-02-11 01:27:49 -0000 (Tue, 11 Feb 2025) EndedAt: 2025-02-11 01:28:09 -0000 (Tue, 11 Feb 2025) EllapsedTime: 20.0 seconds RetCode: 0 Status: OK PackageFile: pathifier_1.44.0.tar.gz PackageFileSize: 2.026 MiB