Package: pathlinkR Version: 1.2.0 Command: /Library/Frameworks/R.framework/Resources/bin/R CMD INSTALL pathlinkR StartedAt: 2025-02-10 18:17:47 -0500 (Mon, 10 Feb 2025) EndedAt: 2025-02-10 18:18:06 -0500 (Mon, 10 Feb 2025) EllapsedTime: 18.6 seconds RetCode: 0 Status: OK