Package: pathlinkR Version: 1.2.0 Command: /Library/Frameworks/R.framework/Resources/bin/R CMD build --keep-empty-dirs --no-resave-data pathlinkR StartedAt: 2025-02-10 21:12:38 -0500 (Mon, 10 Feb 2025) EndedAt: 2025-02-10 21:21:03 -0500 (Mon, 10 Feb 2025) EllapsedTime: 505.2 seconds RetCode: 0 Status: OK PackageFile: pathlinkR_1.2.0.tar.gz PackageFileSize: 4.712 MiB