Package: pathlinkR Version: 1.2.0 Command: rm -rf pathlinkR.buildbin-libdir && mkdir pathlinkR.buildbin-libdir && F:\biocbuild\bbs-3.20-bioc\R\bin\R.exe CMD INSTALL --build --library=pathlinkR.buildbin-libdir pathlinkR_1.2.0.tar.gz StartedAt: 2025-02-04 09:08:52 -0500 (Tue, 04 Feb 2025) EndedAt: 2025-02-04 09:09:33 -0500 (Tue, 04 Feb 2025) EllapsedTime: 40.9 seconds RetCode: 0 Status: OK PackageFile: pathlinkR_1.2.0.zip PackageFileSize: 3.287 MiB