Package: pathlinkR Version: 1.2.0 Command: F:\biocbuild\bbs-3.20-bioc\R\bin\R.exe CMD INSTALL pathlinkR StartedAt: 2025-02-10 17:02:12 -0500 (Mon, 10 Feb 2025) EndedAt: 2025-02-10 17:02:39 -0500 (Mon, 10 Feb 2025) EllapsedTime: 27.0 seconds RetCode: 0 Status: OK