Package: pathlinkR Version: 1.2.0 Command: /home/biocbuild/R/R/bin/R CMD check --install=check:pathlinkR.install-out.txt --library=/home/biocbuild/R/R/site-library --no-vignettes --timings pathlinkR_1.2.0.tar.gz StartedAt: 2025-02-11 09:02:07 -0000 (Tue, 11 Feb 2025) EndedAt: 2025-02-11 09:08:45 -0000 (Tue, 11 Feb 2025) EllapsedTime: 398.6 seconds RetCode: 0 Status: OK CheckDir: pathlinkR.Rcheck Warnings: 0