Package: pathwayPCA Version: 1.22.0 Command: /Library/Frameworks/R.framework/Resources/bin/R CMD INSTALL pathwayPCA StartedAt: 2025-02-10 17:46:56 -0500 (Mon, 10 Feb 2025) EndedAt: 2025-02-10 17:47:06 -0500 (Mon, 10 Feb 2025) EllapsedTime: 9.7 seconds RetCode: 0 Status: OK