Package: pathwayPCA Version: 1.22.0 Command: /Library/Frameworks/R.framework/Resources/bin/R CMD build --keep-empty-dirs --no-resave-data pathwayPCA StartedAt: 2025-02-10 21:13:03 -0500 (Mon, 10 Feb 2025) EndedAt: 2025-02-10 21:19:06 -0500 (Mon, 10 Feb 2025) EllapsedTime: 362.9 seconds RetCode: 0 Status: OK PackageFile: pathwayPCA_1.22.0.tar.gz PackageFileSize: 3.476 MiB