Package: pathwayPCA Version: 1.22.0 Command: rm -rf pathwayPCA.buildbin-libdir && mkdir pathwayPCA.buildbin-libdir && F:\biocbuild\bbs-3.20-bioc\R\bin\R.exe CMD INSTALL --build --library=pathwayPCA.buildbin-libdir pathwayPCA_1.22.0.tar.gz StartedAt: 2025-02-04 09:09:01 -0500 (Tue, 04 Feb 2025) EndedAt: 2025-02-04 09:10:10 -0500 (Tue, 04 Feb 2025) EllapsedTime: 69.3 seconds RetCode: 0 Status: OK PackageFile: pathwayPCA_1.22.0.zip PackageFileSize: 2.818 MiB