Package: paxtoolsr Version: 1.40.0 Command: /Library/Frameworks/R.framework/Resources/bin/R CMD build --keep-empty-dirs --no-resave-data paxtoolsr StartedAt: 2025-02-04 05:20:20 -0500 (Tue, 04 Feb 2025) EndedAt: 2025-02-04 05:20:44 -0500 (Tue, 04 Feb 2025) EllapsedTime: 23.3 seconds RetCode: 1 Status: ERROR PackageFile: None PackageFileSize: NA