Package: paxtoolsr Version: 1.40.0 Command: /Library/Frameworks/R.framework/Resources/bin/R CMD INSTALL paxtoolsr StartedAt: 2025-02-03 15:24:56 -0500 (Mon, 03 Feb 2025) EndedAt: 2025-02-03 15:25:03 -0500 (Mon, 03 Feb 2025) EllapsedTime: 6.9 seconds RetCode: 0 Status: OK