Package: paxtoolsr Version: 1.40.0 Command: /Library/Frameworks/R.framework/Resources/bin/R CMD build --keep-empty-dirs --no-resave-data paxtoolsr StartedAt: 2025-02-10 21:13:20 -0500 (Mon, 10 Feb 2025) EndedAt: 2025-02-10 21:13:59 -0500 (Mon, 10 Feb 2025) EllapsedTime: 38.6 seconds RetCode: 1 Status: ERROR PackageFile: None PackageFileSize: NA