Package: paxtoolsr Version: 1.40.0 Command: /home/biocbuild/R/R/bin/R CMD INSTALL paxtoolsr StartedAt: 2025-02-03 20:27:58 -0000 (Mon, 03 Feb 2025) EndedAt: 2025-02-03 20:28:23 -0000 (Mon, 03 Feb 2025) EllapsedTime: 25.3 seconds RetCode: 0 Status: OK