Package: pdInfoBuilder Version: 1.70.0 Command: /Library/Frameworks/R.framework/Resources/bin/R CMD INSTALL pdInfoBuilder StartedAt: 2025-02-10 15:46:44 -0500 (Mon, 10 Feb 2025) EndedAt: 2025-02-10 15:47:21 -0500 (Mon, 10 Feb 2025) EllapsedTime: 37.1 seconds RetCode: 0 Status: OK