Package: pdInfoBuilder Version: 1.70.0 Command: rm -rf pdInfoBuilder.buildbin-libdir && mkdir pdInfoBuilder.buildbin-libdir && /Users/biocbuild/BBS/utils/build-universal.sh pdInfoBuilder_1.70.0.tar.gz /Library/Frameworks/R.framework/Resources/bin/R pdInfoBuilder.buildbin-libdir StartedAt: 2025-02-11 14:05:42 -0500 (Tue, 11 Feb 2025) EndedAt: 2025-02-11 14:07:36 -0500 (Tue, 11 Feb 2025) EllapsedTime: 113.3 seconds RetCode: 0 Status: OK PackageFile: pdInfoBuilder_1.70.0.tgz PackageFileSize: 819.2 KiB