Package: pdInfoBuilder Version: 1.70.0 Command: chmod a+r pdInfoBuilder -R && F:\biocbuild\bbs-3.20-bioc\R\bin\R.exe CMD build --keep-empty-dirs --no-resave-data pdInfoBuilder StartedAt: 2025-02-03 21:07:57 -0500 (Mon, 03 Feb 2025) EndedAt: 2025-02-03 21:08:44 -0500 (Mon, 03 Feb 2025) EllapsedTime: 46.7 seconds RetCode: 0 Status: OK PackageFile: pdInfoBuilder_1.70.0.tar.gz PackageFileSize: 348.1 KiB