Package: peco Version: 1.18.0 Command: rm -rf peco.buildbin-libdir && mkdir peco.buildbin-libdir && /Users/biocbuild/BBS/utils/build-universal.sh peco_1.18.0.tar.gz /Library/Frameworks/R.framework/Resources/bin/R peco.buildbin-libdir StartedAt: 2025-02-01 16:10:21 -0500 (Sat, 01 Feb 2025) EndedAt: 2025-02-01 16:10:55 -0500 (Sat, 01 Feb 2025) EllapsedTime: 34.6 seconds RetCode: 0 Status: OK PackageFile: peco_1.18.0.tgz PackageFileSize: 1.125 MiB