Package: peco Version: 1.18.0 Command: /Library/Frameworks/R.framework/Resources/bin/R CMD build --keep-empty-dirs --no-resave-data peco StartedAt: 2025-01-31 05:15:55 -0500 (Fri, 31 Jan 2025) EndedAt: 2025-01-31 05:19:03 -0500 (Fri, 31 Jan 2025) EllapsedTime: 188.7 seconds RetCode: 0 Status: OK PackageFile: peco_1.18.0.tar.gz PackageFileSize: 1.068 MiB