Package: peco Version: 1.18.0 Command: /Library/Frameworks/R.framework/Resources/bin/R CMD check --install=check:peco.install-out.txt --library=/Library/Frameworks/R.framework/Resources/library --no-vignettes --timings peco_1.18.0.tar.gz StartedAt: 2025-02-01 04:23:34 -0500 (Sat, 01 Feb 2025) EndedAt: 2025-02-01 04:34:13 -0500 (Sat, 01 Feb 2025) EllapsedTime: 638.3 seconds RetCode: 0 Status: OK CheckDir: peco.Rcheck Warnings: 0