Package: peco Version: 1.18.0 Command: /Library/Frameworks/R.framework/Resources/bin/R CMD INSTALL peco StartedAt: 2025-01-30 16:33:02 -0500 (Thu, 30 Jan 2025) EndedAt: 2025-01-30 16:34:01 -0500 (Thu, 30 Jan 2025) EllapsedTime: 58.7 seconds RetCode: 0 Status: OK