Package: peco Version: 1.18.0 Command: chmod a+r peco -R && F:\biocbuild\bbs-3.20-bioc\R\bin\R.exe CMD build --keep-empty-dirs --no-resave-data peco StartedAt: 2025-01-30 20:53:33 -0500 (Thu, 30 Jan 2025) EndedAt: 2025-01-30 20:57:19 -0500 (Thu, 30 Jan 2025) EllapsedTime: 225.3 seconds RetCode: 0 Status: OK PackageFile: peco_1.18.0.tar.gz PackageFileSize: 1.028 MiB