Package: peco Version: 1.18.0 Command: /home/biocbuild/R/R/bin/R CMD build --keep-empty-dirs --no-resave-data peco StartedAt: 2025-01-31 01:43:17 -0000 (Fri, 31 Jan 2025) EndedAt: 2025-01-31 01:46:21 -0000 (Fri, 31 Jan 2025) EllapsedTime: 184.2 seconds RetCode: 0 Status: OK PackageFile: peco_1.18.0.tar.gz PackageFileSize: 1.04 MiB