Package: peco Version: 1.18.0 Command: /home/biocbuild/R/R/bin/R CMD check --install=check:peco.install-out.txt --library=/home/biocbuild/R/R/site-library --no-vignettes --timings peco_1.18.0.tar.gz StartedAt: 2025-01-31 09:03:52 -0000 (Fri, 31 Jan 2025) EndedAt: 2025-01-31 09:14:28 -0000 (Fri, 31 Jan 2025) EllapsedTime: 635.7 seconds RetCode: 0 Status: OK CheckDir: peco.Rcheck Warnings: 0