Package: peco Version: 1.18.0 Command: /home/biocbuild/R/R/bin/R CMD INSTALL peco StartedAt: 2025-01-30 21:00:15 -0000 (Thu, 30 Jan 2025) EndedAt: 2025-01-30 21:00:49 -0000 (Thu, 30 Jan 2025) EllapsedTime: 33.6 seconds RetCode: 0 Status: OK