Package: pengls Version: 1.12.0 Command: rm -rf pengls.buildbin-libdir && mkdir pengls.buildbin-libdir && /Users/biocbuild/BBS/utils/build-universal.sh pengls_1.12.0.tar.gz /Library/Frameworks/R.framework/Resources/bin/R pengls.buildbin-libdir StartedAt: 2025-02-01 16:10:33 -0500 (Sat, 01 Feb 2025) EndedAt: 2025-02-01 16:10:42 -0500 (Sat, 01 Feb 2025) EllapsedTime: 8.6 seconds RetCode: 0 Status: OK PackageFile: pengls_1.12.0.tgz PackageFileSize: 95.07 KiB