Package: pengls Version: 1.12.0 Command: /Library/Frameworks/R.framework/Resources/bin/R CMD build --keep-empty-dirs --no-resave-data pengls StartedAt: 2025-01-31 05:16:22 -0500 (Fri, 31 Jan 2025) EndedAt: 2025-01-31 05:19:44 -0500 (Fri, 31 Jan 2025) EllapsedTime: 202.0 seconds RetCode: 0 Status: OK PackageFile: pengls_1.12.0.tar.gz PackageFileSize: 61.67 KiB