Package: pengls Version: 1.12.0 Command: /Library/Frameworks/R.framework/Resources/bin/R CMD INSTALL pengls StartedAt: 2025-01-30 17:19:04 -0500 (Thu, 30 Jan 2025) EndedAt: 2025-01-30 17:19:11 -0500 (Thu, 30 Jan 2025) EllapsedTime: 6.9 seconds RetCode: 0 Status: OK