Package: pengls Version: 1.12.0 Command: /Library/Frameworks/R.framework/Resources/bin/R CMD INSTALL pengls StartedAt: 2024-11-08 15:39:12 -0500 (Fri, 08 Nov 2024) EndedAt: 2024-11-08 15:39:14 -0500 (Fri, 08 Nov 2024) EllapsedTime: 2.2 seconds RetCode: 0 Status: OK