Package: pengls Version: 1.12.0 Command: rm -rf pengls.buildbin-libdir && mkdir pengls.buildbin-libdir && /Users/biocbuild/BBS/utils/build-universal.sh pengls_1.12.0.tar.gz /Library/Frameworks/R.framework/Resources/bin/R pengls.buildbin-libdir StartedAt: 2025-01-31 13:22:18 -0500 (Fri, 31 Jan 2025) EndedAt: 2025-01-31 13:22:32 -0500 (Fri, 31 Jan 2025) EllapsedTime: 14.3 seconds RetCode: 0 Status: OK PackageFile: pengls_1.12.0.tgz PackageFileSize: 95.17 KiB