Package: pengls Version: 1.12.0 Command: /Library/Frameworks/R.framework/Resources/bin/R CMD build --keep-empty-dirs --no-resave-data pengls StartedAt: 2025-01-30 21:47:16 -0500 (Thu, 30 Jan 2025) EndedAt: 2025-01-30 21:51:30 -0500 (Thu, 30 Jan 2025) EllapsedTime: 254.1 seconds RetCode: 0 Status: OK PackageFile: pengls_1.12.0.tar.gz PackageFileSize: 61.65 KiB