Package: pengls Version: 1.12.0 Command: /home/biocbuild/bbs-3.20-bioc/R/bin/R CMD check --install=check:pengls.install-out.txt --library=/home/biocbuild/bbs-3.20-bioc/R/site-library --timings pengls_1.12.0.tar.gz StartedAt: 2025-01-31 00:59:26 -0500 (Fri, 31 Jan 2025) EndedAt: 2025-01-31 01:10:16 -0500 (Fri, 31 Jan 2025) EllapsedTime: 649.8 seconds RetCode: 0 Status: OK CheckDir: pengls.Rcheck Warnings: 0