Package: pengls Version: 1.12.0 Command: rm -rf pengls.buildbin-libdir && mkdir pengls.buildbin-libdir && F:\biocbuild\bbs-3.20-bioc\R\bin\R.exe CMD INSTALL --build --library=pengls.buildbin-libdir pengls_1.12.0.tar.gz StartedAt: 2025-02-04 09:09:33 -0500 (Tue, 04 Feb 2025) EndedAt: 2025-02-04 09:09:50 -0500 (Tue, 04 Feb 2025) EllapsedTime: 17.7 seconds RetCode: 0 Status: OK PackageFile: pengls_1.12.0.zip PackageFileSize: 62.88 KiB