Package: pengls Version: 1.12.0 Command: /home/biocbuild/R/R/bin/R CMD build --keep-empty-dirs --no-resave-data pengls StartedAt: 2025-01-31 01:43:40 -0000 (Fri, 31 Jan 2025) EndedAt: 2025-01-31 01:48:01 -0000 (Fri, 31 Jan 2025) EllapsedTime: 260.3 seconds RetCode: 0 Status: OK PackageFile: pengls_1.12.0.tar.gz PackageFileSize: 37.94 KiB