Package: pengls Version: 1.12.0 Command: /home/biocbuild/R/R/bin/R CMD check --install=check:pengls.install-out.txt --library=/home/biocbuild/R/R/site-library --no-vignettes --timings pengls_1.12.0.tar.gz StartedAt: 2025-01-31 09:05:06 -0000 (Fri, 31 Jan 2025) EndedAt: 2025-01-31 09:15:10 -0000 (Fri, 31 Jan 2025) EllapsedTime: 604.7 seconds RetCode: 0 Status: OK CheckDir: pengls.Rcheck Warnings: 0