Package: pengls Version: 1.12.0 Command: /home/biocbuild/R/R/bin/R CMD INSTALL pengls StartedAt: 2025-01-30 20:50:37 -0000 (Thu, 30 Jan 2025) EndedAt: 2025-01-30 20:50:44 -0000 (Thu, 30 Jan 2025) EllapsedTime: 7.0 seconds RetCode: 0 Status: OK