Package: pfamAnalyzeR Version: 1.6.0 Command: rm -rf pfamAnalyzeR.buildbin-libdir && mkdir pfamAnalyzeR.buildbin-libdir && /Users/biocbuild/BBS/utils/build-universal.sh pfamAnalyzeR_1.6.0.tar.gz /Library/Frameworks/R.framework/Resources/bin/R pfamAnalyzeR.buildbin-libdir StartedAt: 2025-02-05 17:06:28 -0500 (Wed, 05 Feb 2025) EndedAt: 2025-02-05 17:06:33 -0500 (Wed, 05 Feb 2025) EllapsedTime: 5.7 seconds RetCode: 0 Status: OK PackageFile: pfamAnalyzeR_1.6.0.tgz PackageFileSize: 310.7 KiB