Package: pfamAnalyzeR Version: 1.6.0 Command: /home/biocbuild/R/R/bin/R CMD build --keep-empty-dirs --no-resave-data pfamAnalyzeR StartedAt: 2025-02-04 01:49:21 -0000 (Tue, 04 Feb 2025) EndedAt: 2025-02-04 01:49:30 -0000 (Tue, 04 Feb 2025) EllapsedTime: 9.0 seconds RetCode: 0 Status: OK PackageFile: pfamAnalyzeR_1.6.0.tar.gz PackageFileSize: 374.8 KiB