Package: pgca Version: 1.30.0 Command: rm -rf pgca.buildbin-libdir && mkdir pgca.buildbin-libdir && /Users/biocbuild/BBS/utils/build-universal.sh pgca_1.30.0.tar.gz /Library/Frameworks/R.framework/Resources/bin/R pgca.buildbin-libdir StartedAt: 2025-02-04 13:45:58 -0500 (Tue, 04 Feb 2025) EndedAt: 2025-02-04 13:46:12 -0500 (Tue, 04 Feb 2025) EllapsedTime: 13.4 seconds RetCode: 0 Status: OK PackageFile: pgca_1.30.0.tgz PackageFileSize: 144.5 KiB