Package: pgca Version: 1.30.0 Command: /Library/Frameworks/R.framework/Resources/bin/R CMD build --keep-empty-dirs --no-resave-data pgca StartedAt: 2025-02-03 21:15:07 -0500 (Mon, 03 Feb 2025) EndedAt: 2025-02-03 21:15:21 -0500 (Mon, 03 Feb 2025) EllapsedTime: 13.7 seconds RetCode: 0 Status: OK PackageFile: pgca_1.30.0.tar.gz PackageFileSize: 216.9 KiB