Package: pgca Version: 1.30.0 Command: /Library/Frameworks/R.framework/Resources/bin/R CMD INSTALL pgca StartedAt: 2025-02-10 15:04:47 -0500 (Mon, 10 Feb 2025) EndedAt: 2025-02-10 15:05:28 -0500 (Mon, 10 Feb 2025) EllapsedTime: 40.7 seconds RetCode: 0 Status: OK