Package: pgca Version: 1.30.0 Command: /home/biocbuild/bbs-3.20-bioc/R/bin/R CMD check --install=check:pgca.install-out.txt --library=/home/biocbuild/bbs-3.20-bioc/R/site-library --timings pgca_1.30.0.tar.gz StartedAt: 2025-02-04 01:10:31 -0500 (Tue, 04 Feb 2025) EndedAt: 2025-02-04 01:10:49 -0500 (Tue, 04 Feb 2025) EllapsedTime: 18.0 seconds RetCode: 0 Status: OK CheckDir: pgca.Rcheck Warnings: 0