Package: pgca Version: 1.30.0 Command: /home/biocbuild/R/R/bin/R CMD INSTALL pgca StartedAt: 2025-02-10 20:10:03 -0000 (Mon, 10 Feb 2025) EndedAt: 2025-02-10 20:10:45 -0000 (Mon, 10 Feb 2025) EllapsedTime: 42.1 seconds RetCode: 0 Status: OK