Package: phantasus Version: 1.26.0 Command: rm -rf phantasus.buildbin-libdir && mkdir phantasus.buildbin-libdir && /Users/biocbuild/BBS/utils/build-universal.sh phantasus_1.26.0.tar.gz /Library/Frameworks/R.framework/Resources/bin/R phantasus.buildbin-libdir StartedAt: 2025-02-04 13:46:07 -0500 (Tue, 04 Feb 2025) EndedAt: 2025-02-04 13:48:47 -0500 (Tue, 04 Feb 2025) EllapsedTime: 159.7 seconds RetCode: 0 Status: OK PackageFile: phantasus_1.26.0.tgz PackageFileSize: 8.35 MiB